BEGIN:VCALENDAR
VERSION:2.0
PRODID:-//Utah Republican Native American Caucus - ECPv6.15.20//NONSGML v1.0//EN
CALSCALE:GREGORIAN
METHOD:PUBLISH
X-WR-CALNAME:Utah Republican Native American Caucus
X-ORIGINAL-URL:https://republicannatives.com
X-WR-CALDESC:Events for Utah Republican Native American Caucus
REFRESH-INTERVAL;VALUE=DURATION:PT1H
X-Robots-Tag:noindex
X-PUBLISHED-TTL:PT1H
BEGIN:VTIMEZONE
TZID:America/Denver
BEGIN:DAYLIGHT
TZOFFSETFROM:-0700
TZOFFSETTO:-0600
TZNAME:MDT
DTSTART:20250309T090000
END:DAYLIGHT
BEGIN:STANDARD
TZOFFSETFROM:-0600
TZOFFSETTO:-0700
TZNAME:MST
DTSTART:20251102T080000
END:STANDARD
BEGIN:DAYLIGHT
TZOFFSETFROM:-0700
TZOFFSETTO:-0600
TZNAME:MDT
DTSTART:20260308T090000
END:DAYLIGHT
BEGIN:STANDARD
TZOFFSETFROM:-0600
TZOFFSETTO:-0700
TZNAME:MST
DTSTART:20261101T080000
END:STANDARD
BEGIN:DAYLIGHT
TZOFFSETFROM:-0700
TZOFFSETTO:-0600
TZNAME:MDT
DTSTART:20270314T090000
END:DAYLIGHT
BEGIN:STANDARD
TZOFFSETFROM:-0600
TZOFFSETTO:-0700
TZNAME:MST
DTSTART:20271107T080000
END:STANDARD
END:VTIMEZONE
BEGIN:VEVENT
DTSTART;TZID=America/Denver:20260425T160000
DTEND;TZID=America/Denver:20260425T200000
DTSTAMP:20260421T160453
CREATED:20260330T163430Z
LAST-MODIFIED:20260417T174422Z
UID:716-1777132800-1777147200@republicannatives.com
SUMMARY:2026 Convention Pow Wow
DESCRIPTION:Please note: our start-time is approximate. Our Convention will begin as soon as the Utah Republican Party’s Convention is adjourned\, and sufficient time to travel to the venue location is allowed. \n \nAgenda\n1. Call to Order\n\nAttendance: \n\n2. Customs & Traditions\nAs is customary\, our Pow Wows are generally held over food. This year we convene at a local restaurant: \nAsado Argentinian Grill and Cafe\n360 S State St #153\nOrem\, UT 84058 \n3. Adoption of Agenda\n4. Adoption of All Prior Minutes\n5. Officer Reports\nChief’s Report\nVice-President’s Report\nSecretary/Treasurer’s Report\n6. Republican Buffalo Standing Committee\n7. Pow Wow (Committee of the Whole)\n8. Adjourn\n\nFor convenience: \n(4) The general membership shall Pow Wow at least once a year in a Convention.\n(4.1) In odd-numbered years\, the purpose shall be to elect officers of the organization\, and conduct other business.\n(4.2) In even-numbered years\, the purpose shall be to hear reports from the officers\, to conduct business\, and to educate the membership of issues impacting URNAC voters.
URL:https://republicannatives.com/event/2026-convention-pow-wow/
LOCATION:Asado Argentinian Grill and Cafe\, 360 S State St #153\, Orem\, UT\, 84058\, United States
CATEGORIES:Convention
ATTACH;FMTTYPE=image/jpeg:https://republicannatives.com/wp-content/uploads/2025/01/08d2809e-b54d-4007-a477-faf5b0fc6fd2.jpg
END:VEVENT
END:VCALENDAR